BEGIN:VCALENDAR
VERSION:2.0
PRODID:-//HAYMAN-WOODWARD - Desbloquea tu Futuro Global - ECPv6.15.20//NONSGML v1.0//EN
CALSCALE:GREGORIAN
METHOD:PUBLISH
X-ORIGINAL-URL:https://haymanwoodward.com/es/
X-WR-CALDESC:Eventos para HAYMAN-WOODWARD - Desbloquea tu Futuro Global
REFRESH-INTERVAL;VALUE=DURATION:PT1H
X-Robots-Tag:noindex
X-PUBLISHED-TTL:PT1H
BEGIN:VTIMEZONE
TZID:UTC
BEGIN:STANDARD
TZOFFSETFROM:+0000
TZOFFSETTO:+0000
TZNAME:UTC
DTSTART:20230101T000000
END:STANDARD
END:VTIMEZONE
BEGIN:VEVENT
DTSTART;TZID=UTC:20250413T080000
DTEND;TZID=UTC:20250416T170000
DTSTAMP:20260422T142421
CREATED:20250414T091910Z
LAST-MODIFIED:20250414T091910Z
UID:8584-1744531200-1744822800@haymanwoodward.com
SUMMARY:Foro Empresarial LIDE - Dubai y Abu Dhabi 2025
DESCRIPTION:Foro Empresarial LIDE - Dubai y Abu Dhabi 2025\nHAYMAN-WOODWARD participará en el LIDE Business Forum EAU\, una reunión de alto nivel de líderes empresariales y gubernamentales de Oriente Medio. Nuestro Consejero Delegado\, Leonardo Freitas\, será uno de los ponentes invitados y compartirá cómo la tecnología y la innovación están dando forma al futuro de la movilidad global.  \nRespaldado por décadas de experiencia jurídica internacional\, Leonardo explorará cómo la IA\, la automatización y las plataformas digitales están revolucionando la forma en que las empresas y las personas se trasladan y expanden globalmente. \nTemas clave: \n\n\n\nInnovación digital en inmigración y reubicación\nSoluciones inteligentes para la internacionalización de las empresas\nEl papel de la tecnología en la construcción de un futuro sin fronteras
URL:https://haymanwoodward.com/es/event/foro-empresarial-lide-dubai-y-abu-dhabi-2025/
LOCATION:Dubai\, United Arab Emirates
CATEGORIES:Otros
ATTACH;FMTTYPE=image/jpeg:https://haymanwoodward.com/wp-content/uploads/2024/06/Why-should-you-invest-in-Dubai.jpg
END:VEVENT
BEGIN:VEVENT
DTSTART;TZID=UTC:20250310T080000
DTEND;TZID=UTC:20250310T170000
DTSTAMP:20260422T142421
CREATED:20250311T111928Z
LAST-MODIFIED:20250311T111928Z
UID:8311-1741593600-1741626000@haymanwoodward.com
SUMMARY:Evento Boston
DESCRIPTION:
URL:https://haymanwoodward.com/es/event/evento-boston/
CATEGORIES:Otros
ATTACH;FMTTYPE=image/webp:https://haymanwoodward.com/wp-content/uploads/2024/03/530796-boston.webp
END:VEVENT
BEGIN:VEVENT
DTSTART;TZID=UTC:20250228T080000
DTEND;TZID=UTC:20250301T170000
DTSTAMP:20260422T142421
CREATED:20250306T071313Z
LAST-MODIFIED:20250306T074814Z
UID:8025-1740729600-1740848400@haymanwoodward.com
SUMMARY:Casa HW - Orlando
DESCRIPTION:Casa HW es un evento único\, en persona\, que ofrece consultas personalizadas con expertos en movilidad global. Obtén respuesta a todas tus preguntas sobre cómo avanzar en tu carrera profesional en Estados Unidos\, Portugal\, Emiratos Árabes Unidos y Europa\, y explora los mejores caminos para vivir y trabajar en el extranjero.  \nCon más de 53.000 clientes aprobados\, nuestro equipo proporciona asesoramiento a medida y conocimientos exhaustivos\, ayudándote a navegar por tu trayectoria profesional internacional. No te pierdas esta oportunidad exclusiva de reunirte con los mejores profesionales en movilidad global y derecho de inmigración.
URL:https://haymanwoodward.com/es/event/casa-hw-orlando/
LOCATION:Oficina Orlando\, 200 S Orange Ave\, Suite 770\, Orlando\, FL\, United States
CATEGORIES:Otros
ATTACH;FMTTYPE=image/webp:https://haymanwoodward.com/wp-content/uploads/2024/02/orlando.webp
END:VEVENT
BEGIN:VEVENT
DTSTART;TZID=UTC:20241116T080000
DTEND;TZID=UTC:20241116T200000
DTSTAMP:20260422T142421
CREATED:20240516T101638Z
LAST-MODIFIED:20241004T112648Z
UID:5302-1731744000-1731787200@haymanwoodward.com
SUMMARY:Conexiones HW Orlando
DESCRIPTION:HW Connections es un acto presencial gratuito en el que ofrecemos consultas exclusivas individuales para responder a todas tus preguntas sobre el proceso legal de inmigración a Estados Unidos. Nuestros expertos estarán a su disposición para orientarle individualmente\, proporcionándole información completa y detallada. Descubre tus posibilidades de emigrar a EE.UU. con expertos del único bufete de abogados con más de 55\,000 Green Cards aprobadas\, en un evento exclusivo e individual.
URL:https://haymanwoodward.com/es/event/conexiones-hw-virginia/
LOCATION:Oficina Orlando\, 200 S Orange Ave\, Suite 770\, Orlando\, FL\, United States
CATEGORIES:Conexiones HW
ATTACH;FMTTYPE=image/webp:https://haymanwoodward.com/wp-content/uploads/2024/05/Orlando-Florida-aerial-cityscape-towards-Eola-Lake.webp
END:VEVENT
BEGIN:VEVENT
DTSTART;TZID=UTC:20241109T080000
DTEND;TZID=UTC:20241109T200000
DTSTAMP:20260422T142421
CREATED:20240516T101416Z
LAST-MODIFIED:20241004T112726Z
UID:5288-1731139200-1731182400@haymanwoodward.com
SUMMARY:Conexiones HW Miami
DESCRIPTION:HW Connections es un acto presencial gratuito en el que ofrecemos consultas exclusivas individuales para responder a todas tus preguntas sobre el proceso legal de inmigración a Estados Unidos. Nuestros expertos estarán a su disposición para orientarle individualmente\, proporcionándole información completa y detallada. Descubre tus posibilidades de emigrar a EE.UU. con expertos del único bufete de abogados con más de 55\,000 Green Cards aprobadas\, en un evento exclusivo e individual.
URL:https://haymanwoodward.com/es/event/conexiones-hw-miami/
CATEGORIES:Conexiones HW
ATTACH;FMTTYPE=image/jpeg:https://haymanwoodward.com/wp-content/uploads/2024/02/339656-Downtown-Miami.jpg
END:VEVENT
BEGIN:VEVENT
DTSTART;TZID=UTC:20241028T080000
DTEND;TZID=UTC:20241102T170000
DTSTAMP:20260422T142421
CREATED:20240604T143907Z
LAST-MODIFIED:20240621T141614Z
UID:5488-1730102400-1730566800@haymanwoodward.com
SUMMARY:Campeones de Oro
DESCRIPTION:Exclusivamente para agentes inmobiliarios: ¡Desbloquea lucrativas recompensas convirtiéndote en un especialista en ventas Golden Visa!  Únete a nosotros en un acto especial diseñado para dotarte de los conocimientos y herramientas necesarios para vender los programas de residencia de Dubai a tus clientes inversores. \n¡Rafaela Soares será la anfitriona de la Inmersión en Dubai en octubre de 2024! Agentes inmobiliarios\, arquitectos y diseñadores de interiores\, Rafaela y su equipo han preparado una semana de inmersión en el sector inmobiliario de Dubai ¡especialmente para ti! \nHAYMAN-WOODWARD estará presente el 2 de noviembre de 2024 para aclarar cualquier duda sobre Dubai y todo su entorno empresarial. Obtén información valiosa\, conéctate con compañeros del sector y descubre recompensas exclusivas por cada venta Golden Visa que realices a través de nuestro programa.
URL:https://haymanwoodward.com/es/event/campeones-de-oro/
CATEGORIES:Otros
ATTACH;FMTTYPE=image/jpeg:https://haymanwoodward.com/wp-content/uploads/2024/06/Dubai-1.jpg
END:VEVENT
BEGIN:VEVENT
DTSTART;TZID=UTC:20241015T080000
DTEND;TZID=UTC:20241017T170000
DTSTAMP:20260422T142421
CREATED:20240604T112144Z
LAST-MODIFIED:20240604T112144Z
UID:5470-1728979200-1729184400@haymanwoodward.com
SUMMARY:CIME 360 - Mercado Imob
DESCRIPTION:Mercado Imob CIMI360: Un mercado inmobiliario completo\, moderno e innovador \nEl nombre CIMI360 Imob Marketplace encierra la esencia de un proyecto integral\, moderno e innovador que atiende al mercado inmobiliario en 360 grados. \nRefleja una visión holística del mercado inmobiliario\, destacando como una marca fuerte y diferenciada en el sector. \nCompletamente renovado para satisfacer las demandas profesionales del sector\, el evento se centra en el aprendizaje en el mundo real\, el intercambio de experiencias y las relaciones REALES. \nCon más de 670 horas de talleres que abarcan 96 temas\, CIMI360 ofrece un aprendizaje práctico impartido por instructores experimentados.
URL:https://haymanwoodward.com/es/event/cime-360-mercado-imob/
LOCATION:Distrito Anhembi\, Distrito Anhembi\, Brazil
CATEGORIES:Otros
ATTACH;FMTTYPE=image/webp:https://haymanwoodward.com/wp-content/uploads/2024/06/rear-side-audiences-sitting-listening-speackers-stage-scaled.jpg.webp
END:VEVENT
END:VCALENDAR