BEGIN:VCALENDAR
VERSION:2.0
PRODID:-//HAYMAN-WOODWARD - ECPv6.15.20//NONSGML v1.0//EN
CALSCALE:GREGORIAN
METHOD:PUBLISH
X-WR-CALNAME:HAYMAN-WOODWARD
X-ORIGINAL-URL:https://haymanwoodward.com
X-WR-CALDESC:Events for HAYMAN-WOODWARD
REFRESH-INTERVAL;VALUE=DURATION:PT1H
X-Robots-Tag:noindex
X-PUBLISHED-TTL:PT1H
BEGIN:VTIMEZONE
TZID:UTC
BEGIN:STANDARD
TZOFFSETFROM:+0000
TZOFFSETTO:+0000
TZNAME:UTC
DTSTART:20230101T000000
END:STANDARD
END:VTIMEZONE
BEGIN:VEVENT
DTSTART;TZID=UTC:20250413T080000
DTEND;TZID=UTC:20250416T170000
DTSTAMP:20260422T142154
CREATED:20250414T091910Z
LAST-MODIFIED:20250414T092220Z
UID:8576-1744531200-1744822800@haymanwoodward.com
SUMMARY:LIDE Business Forum – Dubai & Abu Dhabi 2025
DESCRIPTION:LIDE Business Forum – Dubai & Abu Dhabi 2025\nHAYMAN-WOODWARD will join the LIDE Business Forum UAE\, a top-tier gathering of business and government leaders in the Middle East. Our CEO\, Leonardo Freitas\, will be a guest speaker\, sharing how technology and innovation are shaping the future of global mobility. \nBacked by decades of international legal expertise\, Leonardo will explore how AI\, automation\, and digital platforms are revolutionizing the way companies and individuals relocate and expand globally. \nKey topics: \n\n\n\nDigital innovation in immigration and relocation\nSmart solutions for business internationalization\nTechnology’s role in building a borderless future
URL:https://haymanwoodward.com/event/lide-business-forum-dubai-abu-dhabi-2025/
LOCATION:Dubai\, United Arab Emirates
CATEGORIES:Other
ATTACH;FMTTYPE=image/jpeg:https://haymanwoodward.com/wp-content/uploads/2024/06/Why-should-you-invest-in-Dubai.jpg
END:VEVENT
BEGIN:VEVENT
DTSTART;TZID=UTC:20250310T080000
DTEND;TZID=UTC:20250310T170000
DTSTAMP:20260422T142154
CREATED:20250311T111928Z
LAST-MODIFIED:20250311T111928Z
UID:8309-1741593600-1741626000@haymanwoodward.com
SUMMARY:Event Boston
DESCRIPTION:
URL:https://haymanwoodward.com/event/event-boston/
CATEGORIES:Other
ATTACH;FMTTYPE=image/webp:https://haymanwoodward.com/wp-content/uploads/2024/03/530796-boston.webp
END:VEVENT
BEGIN:VEVENT
DTSTART;TZID=UTC:20250228T080000
DTEND;TZID=UTC:20250301T170000
DTSTAMP:20260422T142154
CREATED:20250306T071313Z
LAST-MODIFIED:20250306T074809Z
UID:8023-1740729600-1740848400@haymanwoodward.com
SUMMARY:Casa HW - Orlando
DESCRIPTION:Casa HW is a unique\, in-person event offering personalized consultations with global mobility experts. Get all your questions answered about advancing your career in the United States\, Portugal\, United Arab Emirates\, Europe and explore the best paths to live and work abroad. \nWith over 53\,000 approved clients\, our team provides tailored advice and comprehensive insights\, helping you navigate your international career journey. Don’t miss this exclusive opportunity to meet with the top professionals in global mobility and immigration law!
URL:https://haymanwoodward.com/event/casa-hw-orlando/
LOCATION:Office Orlando\, 200 S Orange Ave\, Suite 770\, Orlando\, FL\, United States
CATEGORIES:Other
ATTACH;FMTTYPE=image/webp:https://haymanwoodward.com/wp-content/uploads/2024/02/orlando.webp
END:VEVENT
BEGIN:VEVENT
DTSTART;TZID=UTC:20241116T080000
DTEND;TZID=UTC:20241116T200000
DTSTAMP:20260422T142154
CREATED:20240516T101638Z
LAST-MODIFIED:20241104T135710Z
UID:5290-1731744000-1731787200@haymanwoodward.com
SUMMARY:HW Connections Orlando
DESCRIPTION:HW Connections is a free in-person event where we offer exclusive one-on-one consultations to address all your questions regarding the legal immigration process for the United States. Our experts will be available to guide you individually\, providing comprehensive and detailed information. \nDiscover your migration possibilities to the USA with experts from the only law firm with over 55\,000 approved Green Cards\, in an exclusive and individual event.
URL:https://haymanwoodward.com/event/hw-connections-orlando/
LOCATION:Office Orlando\, 200 S Orange Ave\, Suite 770\, Orlando\, FL\, United States
CATEGORIES:HW Connections
ATTACH;FMTTYPE=image/webp:https://haymanwoodward.com/wp-content/uploads/2024/05/Orlando-Florida-aerial-cityscape-towards-Eola-Lake.webp
END:VEVENT
BEGIN:VEVENT
DTSTART;TZID=UTC:20241109T080000
DTEND;TZID=UTC:20241109T200000
DTSTAMP:20260422T142154
CREATED:20240516T101416Z
LAST-MODIFIED:20241004T112724Z
UID:5277-1731139200-1731182400@haymanwoodward.com
SUMMARY:HW Connections Miami
DESCRIPTION:HW Connections is a free in-person event where we offer exclusive one-on-one consultations to address all your questions regarding the legal immigration process for the United States. Our experts will be available to guide you individually\, providing comprehensive and detailed information. \nDiscover your migration possibilities to the USA with experts from the only law firm with over 55\,000 approved Green Cards\, in an exclusive and individual event.
URL:https://haymanwoodward.com/event/connections-hw-miami/
CATEGORIES:HW Connections
ATTACH;FMTTYPE=image/jpeg:https://haymanwoodward.com/wp-content/uploads/2024/02/339656-Downtown-Miami.jpg
END:VEVENT
BEGIN:VEVENT
DTSTART;TZID=UTC:20241028T080000
DTEND;TZID=UTC:20241102T170000
DTSTAMP:20260422T142154
CREATED:20240604T143907Z
LAST-MODIFIED:20240621T143012Z
UID:5480-1730102400-1730566800@haymanwoodward.com
SUMMARY:Golden Champions
DESCRIPTION:Exclusively for Real Estate Agents: Unlock lucrative rewards by becoming a Golden Visa sales specialist! Join us for a special event designed to equip you with the knowledge and tools to sell Dubai’s residency programs to your investor clients. \nRafaela Soares will host the Dubai Immersion in October 2024! Real estate agents\, architects\, and interior designers\, Rafaela and her team have prepared a week of immersion in Dubai’s real estate sector specifically for you! \nHAYMAN-WOODWARD will be present on November 2\, 2024\, to clarify any questions about Dubai and its entire business environment. Gain valuable insights\, network with industry peers\, and discover exclusive rewards for every Golden Visa sale you make through our program.
URL:https://haymanwoodward.com/event/golden-champions/
CATEGORIES:Other
ATTACH;FMTTYPE=image/jpeg:https://haymanwoodward.com/wp-content/uploads/2024/06/Dubai-1.jpg
END:VEVENT
BEGIN:VEVENT
DTSTART;TZID=UTC:20241015T080000
DTEND;TZID=UTC:20241017T170000
DTSTAMP:20260422T142154
CREATED:20240604T112144Z
LAST-MODIFIED:20240604T112144Z
UID:5454-1728979200-1729184400@haymanwoodward.com
SUMMARY:CIME 360 - Imob Marketplace
DESCRIPTION:CIMI360 Imob Marketplace: A Comprehensive\, Modern\, and Innovative Real Estate Marketplace \nThe name CIMI360 Imob Marketplace encapsulates the essence of a comprehensive\, modern\, and innovative project that caters to the real estate market in a 360-degree manner. \nIt reflects a holistic vision of the real estate market\, standing out as a strong and differentiated brand in the industry. \nCompletely revamped to meet the professional demands of the sector\, the event’s focus is on real-world learning\, experience sharing\, and REAL relationships! \nWith over 670 hours of workshops covering 96 topics\, CIMI360 offers practical learning taught by experienced instructors.
URL:https://haymanwoodward.com/event/cime-360-imob-marketplace/
LOCATION:Distrito Anhembi\, Distrito Anhembi\, Brazil
CATEGORIES:Other
ATTACH;FMTTYPE=image/webp:https://haymanwoodward.com/wp-content/uploads/2024/06/rear-side-audiences-sitting-listening-speackers-stage-scaled.jpg.webp
END:VEVENT
END:VCALENDAR